BEGIN:VCALENDAR
VERSION:2.0
PRODID:-//The White Squirrel Bar - ECPv6.15.20//NONSGML v1.0//EN
CALSCALE:GREGORIAN
METHOD:PUBLISH
X-WR-CALNAME:The White Squirrel Bar
X-ORIGINAL-URL:https://whitesquirrelbar.com
X-WR-CALDESC:Events for The White Squirrel Bar
REFRESH-INTERVAL;VALUE=DURATION:PT1H
X-Robots-Tag:noindex
X-PUBLISHED-TTL:PT1H
BEGIN:VTIMEZONE
TZID:America/Chicago
BEGIN:DAYLIGHT
TZOFFSETFROM:-0600
TZOFFSETTO:-0500
TZNAME:CDT
DTSTART:20250309T080000
END:DAYLIGHT
BEGIN:STANDARD
TZOFFSETFROM:-0500
TZOFFSETTO:-0600
TZNAME:CST
DTSTART:20251102T070000
END:STANDARD
BEGIN:DAYLIGHT
TZOFFSETFROM:-0600
TZOFFSETTO:-0500
TZNAME:CDT
DTSTART:20260308T080000
END:DAYLIGHT
BEGIN:STANDARD
TZOFFSETFROM:-0500
TZOFFSETTO:-0600
TZNAME:CST
DTSTART:20261101T070000
END:STANDARD
BEGIN:DAYLIGHT
TZOFFSETFROM:-0600
TZOFFSETTO:-0500
TZNAME:CDT
DTSTART:20270314T080000
END:DAYLIGHT
BEGIN:STANDARD
TZOFFSETFROM:-0500
TZOFFSETTO:-0600
TZNAME:CST
DTSTART:20271107T070000
END:STANDARD
END:VTIMEZONE
BEGIN:VEVENT
DTSTART;TZID=America/Chicago:20260126T210000
DTEND;TZID=America/Chicago:20260127T000000
DTSTAMP:20260421T191144
CREATED:20251211T165144Z
LAST-MODIFIED:20260103T155514Z
UID:11509-1769461200-1769472000@whitesquirrelbar.com
SUMMARY:Bad Weather w. Hellseher
DESCRIPTION:BAD WEATHER bio:\nLocal rock band mixing elements of punk\, prog\, and hard rock to create some truly groovy jams you won’t be able to stop headbanging to.
URL:https://whitesquirrelbar.com/event/bad-weather/
ATTACH;FMTTYPE=image/png:https://whitesquirrelbar.com/wp-content/uploads/BW2-scaled.png
END:VEVENT
BEGIN:VEVENT
DTSTART;TZID=America/Chicago:20260126T180000
DTEND;TZID=America/Chicago:20260126T200000
DTSTAMP:20260421T191144
CREATED:20251222T183612Z
LAST-MODIFIED:20260116T180643Z
UID:11594-1769450400-1769457600@whitesquirrelbar.com
SUMMARY:RD & the Midnight Movers
DESCRIPTION:Come on out for the debut of the Twin Cities newest country/soul combo\, RD and the Midnight Movers!  Led by Ray Barnard (vocal/keys) and Dan Lowinger (guitar)\, this new project features some of the twin cities best including Noah Levy (Drums)\, Nick Salisbury (Bass)\, and Joe Savage (Pedal Steel).  Along with playing some of Ray’s originals tunes\, they’ll be covering classics by Charlie Rich\, Elvis\, Arthur Alexander\, Booker T and the MG’s\, Lonnie Mack\, Solomon Burke\, Bobby Womack\, and others!!
URL:https://whitesquirrelbar.com/event/the-dan-lowinger-project/
ATTACH;FMTTYPE=image/jpeg:https://whitesquirrelbar.com/wp-content/uploads/RDandtheMIdnightMovers-scaled.jpg
END:VEVENT
BEGIN:VEVENT
DTSTART;TZID=America/Chicago:20260125T210000
DTEND;TZID=America/Chicago:20260126T000000
DTSTAMP:20260421T191144
CREATED:20251211T163928Z
LAST-MODIFIED:20251211T163928Z
UID:11507-1769374800-1769385600@whitesquirrelbar.com
SUMMARY:Cold Sweat
DESCRIPTION:
URL:https://whitesquirrelbar.com/event/cold-sweat/
END:VEVENT
BEGIN:VEVENT
DTSTART;TZID=America/Chicago:20260125T180000
DTEND;TZID=America/Chicago:20260125T200000
DTSTAMP:20260421T191144
CREATED:20251030T162400Z
LAST-MODIFIED:20251030T162400Z
UID:11022-1769364000-1769371200@whitesquirrelbar.com
SUMMARY:Gerard Nolden & Too Old Cat
DESCRIPTION:One Sheet — Too Old Cat (5) (1) \n  \nGerard NoldenOne Sheet
URL:https://whitesquirrelbar.com/event/gerard-nolden-too-old-cat/
ATTACH;FMTTYPE=image/jpeg:https://whitesquirrelbar.com/wp-content/uploads/Gerard_WhiteSquirrel_Jan25-scaled.jpg
END:VEVENT
BEGIN:VEVENT
DTSTART;TZID=America/Chicago:20260125T130000
DTEND;TZID=America/Chicago:20260125T160000
DTSTAMP:20260421T191144
CREATED:20251211T163748Z
LAST-MODIFIED:20251219T170242Z
UID:11505-1769346000-1769356800@whitesquirrelbar.com
SUMMARY:Graf w. Sam Licari\, Allison Sounds
DESCRIPTION:
URL:https://whitesquirrelbar.com/event/graf/
ATTACH;FMTTYPE=image/jpeg:https://whitesquirrelbar.com/wp-content/uploads/Graf-January-scaled.jpg
END:VEVENT
BEGIN:VEVENT
DTSTART;TZID=America/Chicago:20260124T210000
DTEND;TZID=America/Chicago:20260125T000000
DTSTAMP:20260421T191144
CREATED:20251211T163546Z
LAST-MODIFIED:20260122T234644Z
UID:11503-1769288400-1769299200@whitesquirrelbar.com
SUMMARY:Twin River w. Iodine\, Her Cure\, The Lamellas
DESCRIPTION:
URL:https://whitesquirrelbar.com/event/twin-river/
END:VEVENT
BEGIN:VEVENT
DTSTART;TZID=America/Chicago:20260124T180000
DTEND;TZID=America/Chicago:20260124T200000
DTSTAMP:20260421T191144
CREATED:20251211T163451Z
LAST-MODIFIED:20251211T163451Z
UID:11501-1769277600-1769284800@whitesquirrelbar.com
SUMMARY:Billy Johnson
DESCRIPTION:
URL:https://whitesquirrelbar.com/event/billy-johnson/
END:VEVENT
BEGIN:VEVENT
DTSTART;TZID=America/Chicago:20260124T130000
DTEND;TZID=America/Chicago:20260124T160000
DTSTAMP:20260421T191144
CREATED:20260123T200044Z
LAST-MODIFIED:20260124T000627Z
UID:11888-1769259600-1769270400@whitesquirrelbar.com
SUMMARY:Francis Johnson w. J-Mo On The Beat
DESCRIPTION:
URL:https://whitesquirrelbar.com/event/francis-johnson/
END:VEVENT
BEGIN:VEVENT
DTSTART;TZID=America/Chicago:20260123T080000
DTEND;TZID=America/Chicago:20260124T000000
DTSTAMP:20260421T191144
CREATED:20260122T183425Z
LAST-MODIFIED:20260122T231403Z
UID:11869-1769155200-1769212800@whitesquirrelbar.com
SUMMARY:Closed
DESCRIPTION:
URL:https://whitesquirrelbar.com/event/closed-2/
END:VEVENT
BEGIN:VEVENT
DTSTART;TZID=America/Chicago:20260122T210000
DTEND;TZID=America/Chicago:20260123T000000
DTSTAMP:20260421T191144
CREATED:20260122T232931Z
LAST-MODIFIED:20260122T232931Z
UID:11873-1769115600-1769126400@whitesquirrelbar.com
SUMMARY:Illicit Energy
DESCRIPTION:
URL:https://whitesquirrelbar.com/event/illicit-energy/
END:VEVENT
BEGIN:VEVENT
DTSTART;TZID=America/Chicago:20260122T180000
DTEND;TZID=America/Chicago:20260122T200000
DTSTAMP:20260421T191144
CREATED:20251211T163102Z
LAST-MODIFIED:20251211T163102Z
UID:11495-1769104800-1769112000@whitesquirrelbar.com
SUMMARY:Fuzzy Math
DESCRIPTION:
URL:https://whitesquirrelbar.com/event/fuzzy-math-2/
END:VEVENT
BEGIN:VEVENT
DTSTART;TZID=America/Chicago:20260121T210000
DTEND;TZID=America/Chicago:20260122T000000
DTSTAMP:20260421T191144
CREATED:20251211T163013Z
LAST-MODIFIED:20260121T174345Z
UID:11493-1769029200-1769040000@whitesquirrelbar.com
SUMMARY:Lord Jeremy w. Enemies ft. Mary Cutrufello\, Ira Haze & the Straze\, Joe Hysell and the Ramblin’ Mercenaries
DESCRIPTION:
URL:https://whitesquirrelbar.com/event/thy-lord-jeremy/
ATTACH;FMTTYPE=image/jpeg:https://whitesquirrelbar.com/wp-content/uploads/LordJeremy-w-Enemies-ft.-Mary-Cutrufello.jpeg
END:VEVENT
BEGIN:VEVENT
DTSTART;TZID=America/Chicago:20260121T180000
DTEND;TZID=America/Chicago:20260121T200000
DTSTAMP:20260421T191144
CREATED:20251207T182257Z
LAST-MODIFIED:20251207T182257Z
UID:11402-1769018400-1769025600@whitesquirrelbar.com
SUMMARY:St Paul Mudsteppers
DESCRIPTION:
URL:https://whitesquirrelbar.com/event/st-paul-mudsteppers/
ATTACH;FMTTYPE=image/jpeg:https://whitesquirrelbar.com/wp-content/uploads/Mudsteppers.jpg
END:VEVENT
END:VCALENDAR