BEGIN:VCALENDAR
VERSION:2.0
PRODID:-//The White Squirrel Bar - ECPv6.15.20//NONSGML v1.0//EN
CALSCALE:GREGORIAN
METHOD:PUBLISH
X-WR-CALNAME:The White Squirrel Bar
X-ORIGINAL-URL:https://whitesquirrelbar.com
X-WR-CALDESC:Events for The White Squirrel Bar
REFRESH-INTERVAL;VALUE=DURATION:PT1H
X-Robots-Tag:noindex
X-PUBLISHED-TTL:PT1H
BEGIN:VTIMEZONE
TZID:America/Chicago
BEGIN:DAYLIGHT
TZOFFSETFROM:-0600
TZOFFSETTO:-0500
TZNAME:CDT
DTSTART:20250309T080000
END:DAYLIGHT
BEGIN:STANDARD
TZOFFSETFROM:-0500
TZOFFSETTO:-0600
TZNAME:CST
DTSTART:20251102T070000
END:STANDARD
BEGIN:DAYLIGHT
TZOFFSETFROM:-0600
TZOFFSETTO:-0500
TZNAME:CDT
DTSTART:20260308T080000
END:DAYLIGHT
BEGIN:STANDARD
TZOFFSETFROM:-0500
TZOFFSETTO:-0600
TZNAME:CST
DTSTART:20261101T070000
END:STANDARD
BEGIN:DAYLIGHT
TZOFFSETFROM:-0600
TZOFFSETTO:-0500
TZNAME:CDT
DTSTART:20270314T080000
END:DAYLIGHT
BEGIN:STANDARD
TZOFFSETFROM:-0500
TZOFFSETTO:-0600
TZNAME:CST
DTSTART:20271107T070000
END:STANDARD
END:VTIMEZONE
BEGIN:VEVENT
DTSTART;TZID=America/Chicago:20260527T180000
DTEND;TZID=America/Chicago:20260527T200000
DTSTAMP:20260420T155846
CREATED:20260126T194824Z
LAST-MODIFIED:20260126T194824Z
UID:11995-1779904800-1779912000@whitesquirrelbar.com
SUMMARY:Family Dinner w. Doug & Sarah
DESCRIPTION:
URL:https://whitesquirrelbar.com/event/family-dinner-w-doug-sarah-6/
ATTACH;FMTTYPE=image/jpeg:https://whitesquirrelbar.com/wp-content/uploads/Family-Dinner-landscape-1.jpg
END:VEVENT
BEGIN:VEVENT
DTSTART;TZID=America/Chicago:20260527T210000
DTEND;TZID=America/Chicago:20260528T000000
DTSTAMP:20260420T155846
CREATED:20260210T183739Z
LAST-MODIFIED:20260415T121428Z
UID:12237-1779915600-1779926400@whitesquirrelbar.com
SUMMARY:Looper Showcase ft. John Kerns\, David Cyr\, eRok4a
DESCRIPTION:9pm David Cyr \n10pm John Kerns \n11pm eRok4a
URL:https://whitesquirrelbar.com/event/looper-showcase/
END:VEVENT
BEGIN:VEVENT
DTSTART;TZID=America/Chicago:20260528T180000
DTEND;TZID=America/Chicago:20260528T200000
DTSTAMP:20260420T155846
CREATED:20260415T121533Z
LAST-MODIFIED:20260417T141904Z
UID:12985-1779991200-1779998400@whitesquirrelbar.com
SUMMARY:Wailing Loons
DESCRIPTION:
URL:https://whitesquirrelbar.com/event/the-wailing-loons/
ATTACH;FMTTYPE=image/jpeg:https://whitesquirrelbar.com/wp-content/uploads/Wailing-Loons_White-Squirrel.jpg
END:VEVENT
BEGIN:VEVENT
DTSTART;TZID=America/Chicago:20260528T210000
DTEND;TZID=America/Chicago:20260529T000000
DTSTAMP:20260420T155846
CREATED:20260415T121753Z
LAST-MODIFIED:20260415T121753Z
UID:12988-1780002000-1780012800@whitesquirrelbar.com
SUMMARY:Smokdoubt Co-Op
DESCRIPTION:
URL:https://whitesquirrelbar.com/event/smokdoubt-co-op/
END:VEVENT
BEGIN:VEVENT
DTSTART;TZID=America/Chicago:20260529T180000
DTEND;TZID=America/Chicago:20260529T200000
DTSTAMP:20260420T155846
CREATED:20260123T205145Z
LAST-MODIFIED:20260123T205145Z
UID:11893-1780077600-1780084800@whitesquirrelbar.com
SUMMARY:Jiselle McCollam
DESCRIPTION:
URL:https://whitesquirrelbar.com/event/jiselle-mccollam/
END:VEVENT
BEGIN:VEVENT
DTSTART;TZID=America/Chicago:20260529T210000
DTEND;TZID=America/Chicago:20260530T000000
DTSTAMP:20260420T155846
CREATED:20260415T122140Z
LAST-MODIFIED:20260415T122140Z
UID:12990-1780088400-1780099200@whitesquirrelbar.com
SUMMARY:Sunsets Over Flowers
DESCRIPTION:
URL:https://whitesquirrelbar.com/event/sunsets-over-flowers-2/
END:VEVENT
BEGIN:VEVENT
DTSTART;TZID=America/Chicago:20260530T130000
DTEND;TZID=America/Chicago:20260530T160000
DTSTAMP:20260420T155846
CREATED:20260213T192513Z
LAST-MODIFIED:20260420T151615Z
UID:12303-1780146000-1780156800@whitesquirrelbar.com
SUMMARY:Dan Rumsey w. Cathie English\, Thea Ennen\, Tim Fast
DESCRIPTION:Dan Rumsey is a soulful & bluesy songwriter\, vocalist and multi-instrumentalist. His songs have been recognized at songwriting events: First place 2016 Upper Midwest Singer/Songwriter Contest. Finalist\, 2015 Great River Folk Festival. Finalist\, 2001 and 3rd place\, 2003 Minnesota Folk Festival. “Dan Rumsey would have felt right at home in the 1960’s folk-blues scene.”  -Sing Out! Magazine  danrumseymusic.com\n\n\n\n\nCathie English is a folk singer/songwriter that dwells in Central Minnesota. She writes beautifully crafted songs accompanied with her distinctive American fingerstyle technique.\nWoven through her music is a reverence for nature and the honest storytelling emblematic of the folk genre.  www.facebook.com/cathieenglishmusic\n\n\n\n\n\nThea Ennen\, piano/vocals\, has been described as a “new folk\, country-rock chanteuse” and has garnered considerable acclaim for her exquisite and heart felt songs. Thea explores the edge of human emotions and yet offers hope for the future in her songs. Besides her musical contribution to the culture she is an artist in every sense of the word. When not on the road making music Thea writes poetry\, draws\, sculpts\, and creates jewelry.  theaennenmusic.com\n\n\n\n\nTim Fast Singer Songwriter\, a native Minnesotan\, brings a unique blend of soulful storytelling and musical craftsmanship to the American folk scene. With fourteen songwriting awards to his name\, Tim has become a celebrated figure across the country\, sharing his passion for authentic\, heartfelt music at venues and festivals nationwide. Drawing inspiration from legends like The Beatles\, John Prine\, Neil Young\, James Taylor\, and Steve Goodman – Tim Fast blends traditional folk roots with contemporary narratives\, creating songs that resonate deeply with listeners of all backgrounds. timfast.com
URL:https://whitesquirrelbar.com/event/dan-rumsey/
ATTACH;FMTTYPE=image/jpeg:https://whitesquirrelbar.com/wp-content/uploads/Image-4-18-26-at-9.48-AM.jpeg
END:VEVENT
BEGIN:VEVENT
DTSTART;TZID=America/Chicago:20260530T180000
DTEND;TZID=America/Chicago:20260530T200000
DTSTAMP:20260420T155846
CREATED:20260415T122325Z
LAST-MODIFIED:20260415T122325Z
UID:12992-1780164000-1780171200@whitesquirrelbar.com
SUMMARY:Big Trouble
DESCRIPTION:
URL:https://whitesquirrelbar.com/event/big-trouble-4/
ATTACH;FMTTYPE=image/png:https://whitesquirrelbar.com/wp-content/uploads/Big-Trouble-Permaflyer-scaled.png
END:VEVENT
BEGIN:VEVENT
DTSTART;TZID=America/Chicago:20260530T210000
DTEND;TZID=America/Chicago:20260531T000000
DTSTAMP:20260420T155846
CREATED:20260128T173946Z
LAST-MODIFIED:20260217T182201Z
UID:12146-1780174800-1780185600@whitesquirrelbar.com
SUMMARY:King Caesar w. Hellseher\, Gradience
DESCRIPTION:
URL:https://whitesquirrelbar.com/event/microcat/
ATTACH;FMTTYPE=image/png:https://whitesquirrelbar.com/wp-content/uploads/KING-CAESAR-530.png
END:VEVENT
BEGIN:VEVENT
DTSTART;TZID=America/Chicago:20260531T130000
DTEND;TZID=America/Chicago:20260531T160000
DTSTAMP:20260420T155846
CREATED:20260311T164740Z
LAST-MODIFIED:20260311T164740Z
UID:12638-1780232400-1780243200@whitesquirrelbar.com
SUMMARY:Macro Man w. ME ME ME & Bury Em Deep
DESCRIPTION:
URL:https://whitesquirrelbar.com/event/macro-man-w-me-me-me-bury-em-deep/
ATTACH;FMTTYPE=image/png:https://whitesquirrelbar.com/wp-content/uploads/E17B21E5-3E8C-4B14-9AF4-51936FEF19BD.png
END:VEVENT
BEGIN:VEVENT
DTSTART;TZID=America/Chicago:20260531T180000
DTEND;TZID=America/Chicago:20260531T200000
DTSTAMP:20260420T155846
CREATED:20260415T122501Z
LAST-MODIFIED:20260415T122501Z
UID:12994-1780250400-1780257600@whitesquirrelbar.com
SUMMARY:Tumbling Daisies
DESCRIPTION:
URL:https://whitesquirrelbar.com/event/tumbling-daisies/
END:VEVENT
BEGIN:VEVENT
DTSTART;TZID=America/Chicago:20260531T210000
DTEND;TZID=America/Chicago:20260601T000000
DTSTAMP:20260420T155846
CREATED:20260415T122649Z
LAST-MODIFIED:20260415T122649Z
UID:12996-1780261200-1780272000@whitesquirrelbar.com
SUMMARY:Polem
DESCRIPTION:
URL:https://whitesquirrelbar.com/event/polem/
END:VEVENT
BEGIN:VEVENT
DTSTART;TZID=America/Chicago:20260601T180000
DTEND;TZID=America/Chicago:20260601T200000
DTSTAMP:20260420T155846
CREATED:20260224T220838Z
LAST-MODIFIED:20260224T220838Z
UID:12434-1780336800-1780344000@whitesquirrelbar.com
SUMMARY:Alec Collins
DESCRIPTION:
URL:https://whitesquirrelbar.com/event/alec-collins-2/
END:VEVENT
BEGIN:VEVENT
DTSTART;TZID=America/Chicago:20260601T210000
DTEND;TZID=America/Chicago:20260602T000000
DTSTAMP:20260420T155846
CREATED:20260415T122938Z
LAST-MODIFIED:20260415T122938Z
UID:12998-1780347600-1780358400@whitesquirrelbar.com
SUMMARY:Metal Monday
DESCRIPTION:
URL:https://whitesquirrelbar.com/event/metal-monday-2/
END:VEVENT
BEGIN:VEVENT
DTSTART;TZID=America/Chicago:20260602T180000
DTEND;TZID=America/Chicago:20260602T200000
DTSTAMP:20260420T155846
CREATED:20260126T210640Z
LAST-MODIFIED:20260408T162109Z
UID:12058-1780423200-1780430400@whitesquirrelbar.com
SUMMARY:Thomas Sticha
DESCRIPTION:
URL:https://whitesquirrelbar.com/event/thomas-sticha-8/
ATTACH;FMTTYPE=image/jpeg:https://whitesquirrelbar.com/wp-content/uploads/947A4387-FC05-4456-A4B2-4BEF220D3F16.jpeg
END:VEVENT
BEGIN:VEVENT
DTSTART;TZID=America/Chicago:20260602T210000
DTEND;TZID=America/Chicago:20260603T000000
DTSTAMP:20260420T155846
CREATED:20260323T172845Z
LAST-MODIFIED:20260328T234706Z
UID:12791-1780434000-1780444800@whitesquirrelbar.com
SUMMARY:MPLS Fonk
DESCRIPTION:
URL:https://whitesquirrelbar.com/event/mpls-fonk/
ATTACH;FMTTYPE=image/png:https://whitesquirrelbar.com/wp-content/uploads/image0-1-3.png
END:VEVENT
BEGIN:VEVENT
DTSTART;TZID=America/Chicago:20260603T180000
DTEND;TZID=America/Chicago:20260603T200000
DTSTAMP:20260420T155846
CREATED:20260126T195327Z
LAST-MODIFIED:20260126T195327Z
UID:12009-1780509600-1780516800@whitesquirrelbar.com
SUMMARY:The Second Stringers w. Special Guests
DESCRIPTION:The Second Stringers consists of Lars-Erik Larson on drums\, Nick Salisbury on bass\, and Blair Krivanek on guitar. Between the three of them they have filled out the rhythm section for groups such as Dead Man Winter\, Sonny Knight and the Lakers\, Ryan Bingham\, Brian Fallon\, Sarah Morris\, Mike Munson\, Jack Klatt\, and many others. They play at the White Squirrel the first Wednesday of every month where they stretch out on an eclectic range of tunes from country classics\, old folk songs\, and deep cut soul tunes. Often they are joined by the who’s who of local songwriters as their special guests every month\, where they get to show off their skills as professional sidemen. They look forward to the first Wednesday every month and they’d be thrilled if you came by to join them sometime.
URL:https://whitesquirrelbar.com/event/the-second-stringers-w-special-guests-7/
ATTACH;FMTTYPE=image/jpeg:https://whitesquirrelbar.com/wp-content/uploads/the2ndstringersnewposter.jpg
END:VEVENT
BEGIN:VEVENT
DTSTART;TZID=America/Chicago:20260603T210000
DTEND;TZID=America/Chicago:20260604T000000
DTSTAMP:20260420T155846
CREATED:20260415T123053Z
LAST-MODIFIED:20260415T123053Z
UID:13000-1780520400-1780531200@whitesquirrelbar.com
SUMMARY:Joey Thursday
DESCRIPTION:
URL:https://whitesquirrelbar.com/event/joey-thursday-3/
END:VEVENT
BEGIN:VEVENT
DTSTART;TZID=America/Chicago:20260604T180000
DTEND;TZID=America/Chicago:20260604T200000
DTSTAMP:20260420T155846
CREATED:20260126T210035Z
LAST-MODIFIED:20260126T210035Z
UID:12046-1780596000-1780603200@whitesquirrelbar.com
SUMMARY:Emmy Woods
DESCRIPTION:
URL:https://whitesquirrelbar.com/event/emmy-woods-8/
ATTACH;FMTTYPE=image/png:https://whitesquirrelbar.com/wp-content/uploads/Black-Beige-Vintage-Funky-Retro-Beats-Music-Album-Cover-1.png
END:VEVENT
BEGIN:VEVENT
DTSTART;TZID=America/Chicago:20260604T210000
DTEND;TZID=America/Chicago:20260605T000000
DTSTAMP:20260420T155846
CREATED:20260224T223231Z
LAST-MODIFIED:20260327T192252Z
UID:12440-1780606800-1780617600@whitesquirrelbar.com
SUMMARY:Switching fields w. LongView
DESCRIPTION:
URL:https://whitesquirrelbar.com/event/chick-singer-w-switching-fields/
END:VEVENT
BEGIN:VEVENT
DTSTART;TZID=America/Chicago:20260605T180000
DTEND;TZID=America/Chicago:20260605T200000
DTSTAMP:20260420T155846
CREATED:20260415T123216Z
LAST-MODIFIED:20260415T123216Z
UID:13002-1780682400-1780689600@whitesquirrelbar.com
SUMMARY:Sam Graber Band
DESCRIPTION:
URL:https://whitesquirrelbar.com/event/sam-graber-band/
END:VEVENT
BEGIN:VEVENT
DTSTART;TZID=America/Chicago:20260605T210000
DTEND;TZID=America/Chicago:20260606T000000
DTSTAMP:20260420T155846
CREATED:20260317T160747Z
LAST-MODIFIED:20260317T160747Z
UID:12752-1780693200-1780704000@whitesquirrelbar.com
SUMMARY:Wisper w. Magick Flavour Station\, Nu Nova
DESCRIPTION:
URL:https://whitesquirrelbar.com/event/wisper-w-magick-flavour-station-nu-nova/
END:VEVENT
BEGIN:VEVENT
DTSTART;TZID=America/Chicago:20260606T130000
DTEND;TZID=America/Chicago:20260607T000000
DTSTAMP:20260420T155846
CREATED:20260317T205152Z
LAST-MODIFIED:20260317T205152Z
UID:12757-1780750800-1780790400@whitesquirrelbar.com
SUMMARY:Kev Fest
DESCRIPTION:
URL:https://whitesquirrelbar.com/event/kev-fest/
ATTACH;FMTTYPE=image/jpeg:https://whitesquirrelbar.com/wp-content/uploads/IMG_6993.jpg
END:VEVENT
BEGIN:VEVENT
DTSTART;TZID=America/Chicago:20260607T180000
DTEND;TZID=America/Chicago:20260607T200000
DTSTAMP:20260420T155846
CREATED:20260217T034445Z
LAST-MODIFIED:20260217T034445Z
UID:12363-1780855200-1780862400@whitesquirrelbar.com
SUMMARY:GALACTIC COWBOY ORCHESTRA
DESCRIPTION:GALACTIC COWBOY ORCHESTRA was started in 2009 by founding member/bass player John Wright. The band was born out of a desire to play technically challenging music derived from John’s influences ranging from Mahavishnu Orchestra\, The Dixie Dregs and King Crimson\, to name a few. Wright enlisted the aid of guitarist Dan Neale\, who brought to the table many deep Jazz influences in his advanced playing and composing style. Along with the band’s first drummer\, Mark O’Day\, the beginnings of Galactic Cowboy Orchestra were found. Soon after\, violinist (and John’s wife) Lisi Wright joined the band with her aggressive “electric guitar player plays violin” style and engaging stage presence to complete the band’s sound and look. Fast forward 16 years: 6 studio releases (and one live)\, 3 Downbeat Nominations\, a Minnesota Arts Tour Grant\, collaborations with symphony orchestras\, thousands of miles of touring and the band is just getting started. \n2025 sees the GCO with a new studio release and a stronger than ever commitment to create the ultimate musical moment between the players and the audience with their Art Rock/Jazz Fusion creations.
URL:https://whitesquirrelbar.com/event/galactic-cowboy-orchestra-6/
ATTACH;FMTTYPE=image/jpeg:https://whitesquirrelbar.com/wp-content/uploads/GCO2025Promo1.jpg
END:VEVENT
BEGIN:VEVENT
DTSTART;TZID=America/Chicago:20260608T180000
DTEND;TZID=America/Chicago:20260608T200000
DTSTAMP:20260420T155846
CREATED:20260126T194132Z
LAST-MODIFIED:20260126T194234Z
UID:11983-1780941600-1780948800@whitesquirrelbar.com
SUMMARY:Mumblin' Drew's Oldfangled Orchestrators
DESCRIPTION:Mumblin’ Drew’s Oldfangled Orchestrators (MOO) are a string band from Minneapolis\, MN. Purveyors of novelty\, squeezed through a cheesecloth filter of eccentric entertainment\, they reanimate the music of the early 20th century. Fiddle\, clarinet\, and saxophone weave their sound to the fringes of old-time\, jazz\, jug band\, ragtime\, and tin pan alley\, while guitar and string bass hold down the rhythm. Meet MOO with an open mind\, and prepare to be zazzled and zowed! You can find MOO down at the White Squirrel Bar\, on W 7th Street in St. Paul\, MN the 2nd Monday of every month. https://mumblindrew.com/ \n 
URL:https://whitesquirrelbar.com/event/mumblin-drews-oldfangled-orchestrators-7/
ATTACH;FMTTYPE=image/jpeg:https://whitesquirrelbar.com/wp-content/uploads/mumblindrews.jpg
END:VEVENT
BEGIN:VEVENT
DTSTART;TZID=America/Chicago:20260608T210000
DTEND;TZID=America/Chicago:20260609T000000
DTSTAMP:20260420T155846
CREATED:20260301T184754Z
LAST-MODIFIED:20260301T184754Z
UID:12533-1780952400-1780963200@whitesquirrelbar.com
SUMMARY:West on Wellesley
DESCRIPTION:
URL:https://whitesquirrelbar.com/event/west-on-wellesley/
END:VEVENT
BEGIN:VEVENT
DTSTART;TZID=America/Chicago:20260609T180000
DTEND;TZID=America/Chicago:20260609T200000
DTSTAMP:20260420T155846
CREATED:20260124T214913Z
LAST-MODIFIED:20260127T193456Z
UID:11945-1781028000-1781035200@whitesquirrelbar.com
SUMMARY:The Dans w. Special Guests
DESCRIPTION:
URL:https://whitesquirrelbar.com/event/dl4-5/
END:VEVENT
BEGIN:VEVENT
DTSTART;TZID=America/Chicago:20260609T210000
DTEND;TZID=America/Chicago:20260610T000000
DTSTAMP:20260420T155846
CREATED:20260324T165518Z
LAST-MODIFIED:20260324T165518Z
UID:12797-1781038800-1781049600@whitesquirrelbar.com
SUMMARY:Aeris & the Piggies Residency
DESCRIPTION:
URL:https://whitesquirrelbar.com/event/aeris-the-piggies-residency/
END:VEVENT
BEGIN:VEVENT
DTSTART;TZID=America/Chicago:20260611T210000
DTEND;TZID=America/Chicago:20260612T000000
DTSTAMP:20260420T155846
CREATED:20260410T160847Z
LAST-MODIFIED:20260410T160903Z
UID:12937-1781211600-1781222400@whitesquirrelbar.com
SUMMARY:Ex-Rodeo
DESCRIPTION:
URL:https://whitesquirrelbar.com/event/ex-rodeo/
END:VEVENT
BEGIN:VEVENT
DTSTART;TZID=America/Chicago:20260612T180000
DTEND;TZID=America/Chicago:20260612T200000
DTSTAMP:20260420T155846
CREATED:20260203T220234Z
LAST-MODIFIED:20260203T220234Z
UID:12178-1781287200-1781294400@whitesquirrelbar.com
SUMMARY:Katie Henry
DESCRIPTION:
URL:https://whitesquirrelbar.com/event/katie-henry/
END:VEVENT
END:VCALENDAR